BEGIN:VCALENDAR
VERSION:2.0
PRODID:-//ChamberMaster//Event Calendar 2.0//EN
METHOD:PUBLISH
X-PUBLISHED-TTL:P3D
REFRESH-INTERVAL:P3D
CALSCALE:GREGORIAN
BEGIN:VEVENT
DTSTART:20260611T160000Z
DTEND:20260611T170000Z
X-MICROSOFT-CDO-ALLDAYEVENT:FALSE
SUMMARY:Hummel's/BME Lunch & Learn - Office Technology
DESCRIPTION:More info soon
X-ALT-DESC;FMTTYPE=text/html:More info soon
LOCATION:Hummel's/BME Conference Room at The Chamber Suites 83 Main St Cortland NY
UID:e.2928.3178
SEQUENCE:3
DTSTAMP:20260423T233553Z
URL:http://cortlandareany.chambermaster.com/events/details/hummel-s-bme-lunch-learn-office-technology-3178
END:VEVENT

END:VCALENDAR
